BEGIN:VCALENDAR
VERSION:2.0
PRODID:-//Loweswater Village Hall - ECPv6.15.20//NONSGML v1.0//EN
CALSCALE:GREGORIAN
METHOD:PUBLISH
X-ORIGINAL-URL:https://loweswatervillagehall.co.uk
X-WR-CALDESC:Events for Loweswater Village Hall
REFRESH-INTERVAL;VALUE=DURATION:PT1H
X-Robots-Tag:noindex
X-PUBLISHED-TTL:PT1H
BEGIN:VTIMEZONE
TZID:Europe/London
BEGIN:DAYLIGHT
TZOFFSETFROM:+0000
TZOFFSETTO:+0100
TZNAME:BST
DTSTART:20240331T010000
END:DAYLIGHT
BEGIN:STANDARD
TZOFFSETFROM:+0100
TZOFFSETTO:+0000
TZNAME:GMT
DTSTART:20241027T010000
END:STANDARD
BEGIN:DAYLIGHT
TZOFFSETFROM:+0000
TZOFFSETTO:+0100
TZNAME:BST
DTSTART:20250330T010000
END:DAYLIGHT
BEGIN:STANDARD
TZOFFSETFROM:+0100
TZOFFSETTO:+0000
TZNAME:GMT
DTSTART:20251026T010000
END:STANDARD
BEGIN:DAYLIGHT
TZOFFSETFROM:+0000
TZOFFSETTO:+0100
TZNAME:BST
DTSTART:20260329T010000
END:DAYLIGHT
BEGIN:STANDARD
TZOFFSETFROM:+0100
TZOFFSETTO:+0000
TZNAME:GMT
DTSTART:20261025T010000
END:STANDARD
END:VTIMEZONE
BEGIN:VEVENT
DTSTART;TZID=Europe/London:20250318T191500
DTEND;TZID=Europe/London:20250318T210000
DTSTAMP:20260423T022008
CREATED:20250304T125810Z
LAST-MODIFIED:20250304T125810Z
UID:1575-1742325300-1742331600@loweswatervillagehall.co.uk
SUMMARY:Loweswater Village Hall AGM
DESCRIPTION:Loweswater Village Hall AGM \nTuesday March 18th 2025\, 7.15pm at Loweswater Village Hall \nAgenda \n \n\nApologies\nMinutes of the last AGM on March 6th 2024\nMatters arising\nChairman’s report\nTreasurer’s report\nElection of Committee Members\nElection of Secretary and Treasurer\nCorrespondence\nAOB\n– Committee to sign “declaration of acceptance and of willingness to act in the trusts of the Loweswater Village Hall Foundation Scheme”\, dated May 4th 1955\n\n 
URL:https://loweswatervillagehall.co.uk/event/loweswater-village-hall-agm/
LOCATION:Loweswater Village Hall
END:VEVENT
END:VCALENDAR