BEGIN:VCALENDAR
VERSION:2.0
PRODID:-//Loweswater Village Hall - ECPv6.15.20//NONSGML v1.0//EN
CALSCALE:GREGORIAN
METHOD:PUBLISH
X-WR-CALNAME:Loweswater Village Hall
X-ORIGINAL-URL:https://loweswatervillagehall.co.uk
X-WR-CALDESC:Events for Loweswater Village Hall
REFRESH-INTERVAL;VALUE=DURATION:PT1H
X-Robots-Tag:noindex
X-PUBLISHED-TTL:PT1H
BEGIN:VTIMEZONE
TZID:Europe/London
BEGIN:DAYLIGHT
TZOFFSETFROM:+0000
TZOFFSETTO:+0100
TZNAME:BST
DTSTART:20240331T010000
END:DAYLIGHT
BEGIN:STANDARD
TZOFFSETFROM:+0100
TZOFFSETTO:+0000
TZNAME:GMT
DTSTART:20241027T010000
END:STANDARD
BEGIN:DAYLIGHT
TZOFFSETFROM:+0000
TZOFFSETTO:+0100
TZNAME:BST
DTSTART:20250330T010000
END:DAYLIGHT
BEGIN:STANDARD
TZOFFSETFROM:+0100
TZOFFSETTO:+0000
TZNAME:GMT
DTSTART:20251026T010000
END:STANDARD
BEGIN:DAYLIGHT
TZOFFSETFROM:+0000
TZOFFSETTO:+0100
TZNAME:BST
DTSTART:20260329T010000
END:DAYLIGHT
BEGIN:STANDARD
TZOFFSETFROM:+0100
TZOFFSETTO:+0000
TZNAME:GMT
DTSTART:20261025T010000
END:STANDARD
END:VTIMEZONE
BEGIN:VEVENT
DTSTART;TZID=Europe/London:20250320T140000
DTEND;TZID=Europe/London:20250320T160000
DTSTAMP:20260423T021859
CREATED:20250312T091809Z
LAST-MODIFIED:20250317T172251Z
UID:1590-1742479200-1742486400@loweswatervillagehall.co.uk
SUMMARY:Melbreak Chat and Crafternoon
DESCRIPTION:Bring your own project\, craft or mending\, or just come long for a chat\, tea and cake. A suggested donation of £3 to Melbreak Communities would be most welcome. \nThursday 20 march 2025 \nThursday 17 April 2025 \nThursday  8 May  2025 \nThursday 19 June  2025 \nThursday 17 July   2025 \nThursday 21 August  2025 \nThursday 18 September  2025 \nThursday 16 October 2025 \nThursday 20 November 2025 \nThursday 18 December  2025
URL:https://loweswatervillagehall.co.uk/event/craft-afternoon-2/
LOCATION:Loweswater Village Hall
END:VEVENT
END:VCALENDAR