BEGIN:VCALENDAR
VERSION:2.0
PRODID:-//Loweswater Village Hall - ECPv6.15.20//NONSGML v1.0//EN
CALSCALE:GREGORIAN
METHOD:PUBLISH
X-ORIGINAL-URL:https://loweswatervillagehall.co.uk
X-WR-CALDESC:Events for Loweswater Village Hall
REFRESH-INTERVAL;VALUE=DURATION:PT1H
X-Robots-Tag:noindex
X-PUBLISHED-TTL:PT1H
BEGIN:VTIMEZONE
TZID:Europe/London
BEGIN:DAYLIGHT
TZOFFSETFROM:+0000
TZOFFSETTO:+0100
TZNAME:BST
DTSTART:20240331T010000
END:DAYLIGHT
BEGIN:STANDARD
TZOFFSETFROM:+0100
TZOFFSETTO:+0000
TZNAME:GMT
DTSTART:20241027T010000
END:STANDARD
BEGIN:DAYLIGHT
TZOFFSETFROM:+0000
TZOFFSETTO:+0100
TZNAME:BST
DTSTART:20250330T010000
END:DAYLIGHT
BEGIN:STANDARD
TZOFFSETFROM:+0100
TZOFFSETTO:+0000
TZNAME:GMT
DTSTART:20251026T010000
END:STANDARD
BEGIN:DAYLIGHT
TZOFFSETFROM:+0000
TZOFFSETTO:+0100
TZNAME:BST
DTSTART:20260329T010000
END:DAYLIGHT
BEGIN:STANDARD
TZOFFSETFROM:+0100
TZOFFSETTO:+0000
TZNAME:GMT
DTSTART:20261025T010000
END:STANDARD
BEGIN:DAYLIGHT
TZOFFSETFROM:+0000
TZOFFSETTO:+0100
TZNAME:BST
DTSTART:20270328T010000
END:DAYLIGHT
BEGIN:STANDARD
TZOFFSETFROM:+0100
TZOFFSETTO:+0000
TZNAME:GMT
DTSTART:20271031T010000
END:STANDARD
END:VTIMEZONE
BEGIN:VEVENT
DTSTART;TZID=Europe/London:20250910T191500
DTEND;TZID=Europe/London:20250910T210000
DTSTAMP:20260422T232049
CREATED:20250410T134756Z
LAST-MODIFIED:20250410T134756Z
UID:1626-1757531700-1757538000@loweswatervillagehall.co.uk
SUMMARY:Loweswater Ladies - A Countryside Classroom
DESCRIPTION:What’s happening at Strudda Bank Farm near Ennerdale.\n\nMembers free\, Visitors £2.50
URL:https://loweswatervillagehall.co.uk/event/loweswater-ladies-a-countryside-classroom/
LOCATION:Loweswater Village Hall
ORGANIZER;CN="Loweswater Ladies - Jenny Burr":MAILTO:j3nnynurse422@gmail.com
END:VEVENT
BEGIN:VEVENT
DTSTART;TZID=Europe/London:20251008T190000
DTEND;TZID=Europe/London:20251008T210000
DTSTAMP:20260422T232049
CREATED:20251002T090459Z
LAST-MODIFIED:20251002T090459Z
UID:1805-1759950000-1759957200@loweswatervillagehall.co.uk
SUMMARY:Loweswater Ladies
DESCRIPTION:Melbreak Curlew Project \nIllustrated talk by David Gardiner detailing their work in valley.  \nCards\, etc. for sale.
URL:https://loweswatervillagehall.co.uk/event/loweswater-ladies-2/
LOCATION:Loweswater Village Hall
ORGANIZER;CN="Loweswater Ladies - Jenny Burr":MAILTO:j3nnynurse422@gmail.com
END:VEVENT
BEGIN:VEVENT
DTSTART;TZID=Europe/London:20251011T100000
DTEND;TZID=Europe/London:20251011T120000
DTSTAMP:20260422T232049
CREATED:20250920T115843Z
LAST-MODIFIED:20251009T134207Z
UID:1782-1760176800-1760184000@loweswatervillagehall.co.uk
SUMMARY:Coffee Morning 11th October 2025
DESCRIPTION:Saturday 11th October 2025
URL:https://loweswatervillagehall.co.uk/event/coffee-morning-11th-october-2025/
LOCATION:Loweswater Village Hall
END:VEVENT
BEGIN:VEVENT
DTSTART;TZID=Europe/London:20251021T193000
DTEND;TZID=Europe/London:20251021T210000
DTSTAMP:20260422T232049
CREATED:20250920T154909Z
LAST-MODIFIED:20251009T134321Z
UID:1792-1761075000-1761080400@loweswatervillagehall.co.uk
SUMMARY:77 Club - Restoration of the Croft Field Pond
DESCRIPTION:77 Club
URL:https://loweswatervillagehall.co.uk/event/77-club-restoration-of-the-croft-field-pond/
LOCATION:Loweswater Village Hall
END:VEVENT
BEGIN:VEVENT
DTSTART;TZID=Europe/London:20251025T190000
DTEND;TZID=Europe/London:20251025T220000
DTSTAMP:20260422T232049
CREATED:20250511T104018Z
LAST-MODIFIED:20251009T134028Z
UID:1676-1761418800-1761429600@loweswatervillagehall.co.uk
SUMMARY:Around the World in Four Seasons
DESCRIPTION:Licensed Bar \nSausage Baps £5.00 (pre-order) \nTickets – Adults £12.00 \nTo book your tickets please email Penny – loweswaterevents@gmail.com \n 
URL:https://loweswatervillagehall.co.uk/event/around-the-world-in-four-seasons/
LOCATION:Loweswater Village Hall
END:VEVENT
BEGIN:VEVENT
DTSTART;TZID=Europe/London:20251112T190000
DTEND;TZID=Europe/London:20251112T210000
DTSTAMP:20260422T232049
CREATED:20251024T110528Z
LAST-MODIFIED:20251024T110528Z
UID:1841-1762974000-1762981200@loweswatervillagehall.co.uk
SUMMARY:Loweswater Ladies - Margaret Howarth "Bell Ringing"
DESCRIPTION:
URL:https://loweswatervillagehall.co.uk/event/loweswater-ladies-margaret-howarth-bell-ringing/
LOCATION:Loweswater Village Hall
ORGANIZER;CN="Loweswater Ladies - Jenny Burr":MAILTO:j3nnynurse422@gmail.com
END:VEVENT
BEGIN:VEVENT
DTSTART;TZID=Europe/London:20251118T193000
DTEND;TZID=Europe/London:20251118T213000
DTSTAMP:20260422T232049
CREATED:20251024T105932Z
LAST-MODIFIED:20251024T110800Z
UID:1838-1763494200-1763501400@loweswatervillagehall.co.uk
SUMMARY:77 Club - Alan Cleaver "Postman's Routes"
DESCRIPTION:
URL:https://loweswatervillagehall.co.uk/event/77-club-alan-cleaver-postmans-routes/
LOCATION:Loweswater Village Hall
END:VEVENT
BEGIN:VEVENT
DTSTART;TZID=Europe/London:20251213T140000
DTEND;TZID=Europe/London:20251213T163000
DTSTAMP:20260422T232049
CREATED:20251024T111054Z
LAST-MODIFIED:20251024T111054Z
UID:1846-1765634400-1765643400@loweswatervillagehall.co.uk
SUMMARY:77 Club Christmas Party
DESCRIPTION:
URL:https://loweswatervillagehall.co.uk/event/77-club-christmas-party/
LOCATION:Loweswater Village Hall
END:VEVENT
BEGIN:VEVENT
DTSTART;TZID=Europe/London:20251216T200000
DTEND;TZID=Europe/London:20251216T220000
DTSTAMP:20260422T232049
CREATED:20251127T110414Z
LAST-MODIFIED:20251127T110414Z
UID:1897-1765915200-1765922400@loweswatervillagehall.co.uk
SUMMARY:Christmas Gathering
DESCRIPTION:
URL:https://loweswatervillagehall.co.uk/event/christmas-gathering/
LOCATION:Loweswater Village Hall
END:VEVENT
BEGIN:VEVENT
DTSTART;TZID=Europe/London:20260221T193000
DTEND;TZID=Europe/London:20260221T220000
DTSTAMP:20260422T232049
CREATED:20260127T114943Z
LAST-MODIFIED:20260127T114943Z
UID:1966-1771702200-1771711200@loweswatervillagehall.co.uk
SUMMARY:At the Drop of Another Hippopotamus
DESCRIPTION: 
URL:https://loweswatervillagehall.co.uk/event/at-the-drop-of-another-hippopotamus/
LOCATION:Loweswater Village Hall
END:VEVENT
BEGIN:VEVENT
DTSTART;TZID=Europe/London:20260307T193000
DTEND;TZID=Europe/London:20260307T220000
DTSTAMP:20260422T232049
CREATED:20260127T113541Z
LAST-MODIFIED:20260224T125555Z
UID:1968-1772911800-1772920800@loweswatervillagehall.co.uk
SUMMARY:Magnificent Melbreak Showcase
DESCRIPTION:
URL:https://loweswatervillagehall.co.uk/event/magnificent-melbreak-showcase/
LOCATION:Loweswater Village Hall
ATTACH;FMTTYPE=image/jpeg:https://loweswatervillagehall.co.uk/wp-content/uploads/2026/01/Magnificent-Melbreak-Showcase-Poster-March-7th-2026.jpg
END:VEVENT
BEGIN:VEVENT
DTSTART;TZID=Europe/London:20260311T190000
DTEND;TZID=Europe/London:20260311T210000
DTSTAMP:20260422T232049
CREATED:20260221T085605Z
LAST-MODIFIED:20260221T090211Z
UID:2004-1773255600-1773262800@loweswatervillagehall.co.uk
SUMMARY:LLG - Walking the Kumano Kodo Pilgrim Trail in Japan
DESCRIPTION:Barbara Thompson joins us for a fascinating talk on this spiritual and challenging experience. \n 
URL:https://loweswatervillagehall.co.uk/event/walking-the-kumano-kodo-trail-in-japan/
LOCATION:Loweswater Village Hall
ORGANIZER;CN="Loweswater Ladies - Jenny Burr":MAILTO:j3nnynurse422@gmail.com
END:VEVENT
BEGIN:VEVENT
DTSTART;TZID=Europe/London:20260315T140000
DTEND;TZID=Europe/London:20260315T160000
DTSTAMP:20260422T232049
CREATED:20260127T113608Z
LAST-MODIFIED:20260224T125505Z
UID:1972-1773583200-1773590400@loweswatervillagehall.co.uk
SUMMARY:Mother's Day Afternoon Tea
DESCRIPTION:
URL:https://loweswatervillagehall.co.uk/event/mothers-day-afternoon-tea/
LOCATION:Loweswater Village Hall
ATTACH;FMTTYPE=image/jpeg:https://loweswatervillagehall.co.uk/wp-content/uploads/2026/01/Mothers-Day-Afternoon-Tea-2026-A4-1.jpg
END:VEVENT
END:VCALENDAR