BEGIN:VCALENDAR
VERSION:2.0
PRODID:-//Loweswater Village Hall - ECPv6.15.20//NONSGML v1.0//EN
CALSCALE:GREGORIAN
METHOD:PUBLISH
X-WR-CALNAME:Loweswater Village Hall
X-ORIGINAL-URL:https://loweswatervillagehall.co.uk
X-WR-CALDESC:Events for Loweswater Village Hall
REFRESH-INTERVAL;VALUE=DURATION:PT1H
X-Robots-Tag:noindex
X-PUBLISHED-TTL:PT1H
BEGIN:VTIMEZONE
TZID:Europe/London
BEGIN:DAYLIGHT
TZOFFSETFROM:+0000
TZOFFSETTO:+0100
TZNAME:BST
DTSTART:20240331T010000
END:DAYLIGHT
BEGIN:STANDARD
TZOFFSETFROM:+0100
TZOFFSETTO:+0000
TZNAME:GMT
DTSTART:20241027T010000
END:STANDARD
BEGIN:DAYLIGHT
TZOFFSETFROM:+0000
TZOFFSETTO:+0100
TZNAME:BST
DTSTART:20250330T010000
END:DAYLIGHT
BEGIN:STANDARD
TZOFFSETFROM:+0100
TZOFFSETTO:+0000
TZNAME:GMT
DTSTART:20251026T010000
END:STANDARD
BEGIN:DAYLIGHT
TZOFFSETFROM:+0000
TZOFFSETTO:+0100
TZNAME:BST
DTSTART:20260329T010000
END:DAYLIGHT
BEGIN:STANDARD
TZOFFSETFROM:+0100
TZOFFSETTO:+0000
TZNAME:GMT
DTSTART:20261025T010000
END:STANDARD
END:VTIMEZONE
BEGIN:VEVENT
DTSTART;TZID=Europe/London:20250409T191500
DTEND;TZID=Europe/London:20250409T210000
DTSTAMP:20260422T230619
CREATED:20250130T120948Z
LAST-MODIFIED:20250130T120948Z
UID:1520-1744226100-1744232400@loweswatervillagehall.co.uk
SUMMARY:Loweswater Ladies  Seated Games
DESCRIPTION:9th April 2025 @ 7.15pm \nSeated Games with Val Bell \nDETAILS \nDate                                       Venue                        Organiser \n9th April 2025                      Village Hall                           Loweswater Ladies \nTime  7.15pm \nCost \nAnnual Subscription £12\, Visitors £2.50 per meeting
URL:https://loweswatervillagehall.co.uk/event/loweswater-ladies-seated-games/
END:VEVENT
BEGIN:VEVENT
DTSTART;TZID=Europe/London:20250417T140000
DTEND;TZID=Europe/London:20250417T160000
DTSTAMP:20260422T230619
CREATED:20250416T134821Z
LAST-MODIFIED:20250416T134834Z
UID:1643-1744898400-1744905600@loweswatervillagehall.co.uk
SUMMARY:Crafternoons
DESCRIPTION:Crafternoons\n\nCrafternoons \nChat & Crafternoons take place on the third Thursday every month (except May 2025 when it’s the second Thursday)\, between 2 and 4pm at Loweswater Village Hall (if the weather is nice in the summer\, we may sit outside). All are welcome – bring your own project\, or just come for the chat\, tea and cake. It doesn’t matter if you’re an expert or a beginner at what you’re doing – you might even find help and/or inspiration at hand. Suggested (but voluntary) donation is £3.
URL:https://loweswatervillagehall.co.uk/event/crafternoon/
LOCATION:Loweswater Village Hall
END:VEVENT
END:VCALENDAR