BEGIN:VCALENDAR
VERSION:2.0
PRODID:-//Loweswater Village Hall - ECPv6.15.20//NONSGML v1.0//EN
CALSCALE:GREGORIAN
METHOD:PUBLISH
X-ORIGINAL-URL:https://loweswatervillagehall.co.uk
X-WR-CALDESC:Events for Loweswater Village Hall
REFRESH-INTERVAL;VALUE=DURATION:PT1H
X-Robots-Tag:noindex
X-PUBLISHED-TTL:PT1H
BEGIN:VTIMEZONE
TZID:Europe/London
BEGIN:DAYLIGHT
TZOFFSETFROM:+0000
TZOFFSETTO:+0100
TZNAME:BST
DTSTART:20240331T010000
END:DAYLIGHT
BEGIN:STANDARD
TZOFFSETFROM:+0100
TZOFFSETTO:+0000
TZNAME:GMT
DTSTART:20241027T010000
END:STANDARD
BEGIN:DAYLIGHT
TZOFFSETFROM:+0000
TZOFFSETTO:+0100
TZNAME:BST
DTSTART:20250330T010000
END:DAYLIGHT
BEGIN:STANDARD
TZOFFSETFROM:+0100
TZOFFSETTO:+0000
TZNAME:GMT
DTSTART:20251026T010000
END:STANDARD
BEGIN:DAYLIGHT
TZOFFSETFROM:+0000
TZOFFSETTO:+0100
TZNAME:BST
DTSTART:20260329T010000
END:DAYLIGHT
BEGIN:STANDARD
TZOFFSETFROM:+0100
TZOFFSETTO:+0000
TZNAME:GMT
DTSTART:20261025T010000
END:STANDARD
END:VTIMEZONE
BEGIN:VEVENT
DTSTART;VALUE=DATE:20250505
DTEND;VALUE=DATE:20250506
DTSTAMP:20260422T212852
CREATED:20250416T134008Z
LAST-MODIFIED:20250416T134008Z
UID:1638-1746403200-1746489599@loweswatervillagehall.co.uk
SUMMARY:VE Day Lunch
DESCRIPTION:
URL:https://loweswatervillagehall.co.uk/event/ve-day-lunch/
LOCATION:Loweswater Village Hall
END:VEVENT
BEGIN:VEVENT
DTSTART;TZID=Europe/London:20250508T140000
DTEND;TZID=Europe/London:20250508T160000
DTSTAMP:20260422T212852
CREATED:20250416T135337Z
LAST-MODIFIED:20250416T135337Z
UID:1646-1746712800-1746720000@loweswatervillagehall.co.uk
SUMMARY:Crafternoons
DESCRIPTION:Crafternoons\n\nCrafternoons \nChat & Crafternoons take place on the third Thursday every month (except May 2025 when it’s the second Thursday)\, between 2 and 4pm at Loweswater Village Hall (if the weather is nice in the summer\, we may sit outside). All are welcome – bring your own project\, or just come for the chat\, tea and cake. It doesn’t matter if you’re an expert or a beginner at what you’re doing – you might even find help and/or inspiration at hand. Suggested (but voluntary) donation is £3. \nDates for 2025 are: \nThursday 20 March\nThursday 17 April\nThursday 8 May\nThursday 19 June\nThursday 17 July\nThursday 21 August\nThursday 18 September\nThursday 16 October\nThursday 20 November\nThursday 18 December
URL:https://loweswatervillagehall.co.uk/event/crafternoons/
LOCATION:Loweswater Village Hall
END:VEVENT
BEGIN:VEVENT
DTSTART;TZID=Europe/London:20250511T140000
DTEND;TZID=Europe/London:20250511T160000
DTSTAMP:20260422T212852
CREATED:20250501T083901Z
LAST-MODIFIED:20250501T083901Z
UID:1664-1746972000-1746979200@loweswatervillagehall.co.uk
SUMMARY:Friends of Crummock
DESCRIPTION:Tea and Cakes
URL:https://loweswatervillagehall.co.uk/event/friends-of-crummock/
LOCATION:Loweswater Village Hall
END:VEVENT
BEGIN:VEVENT
DTSTART;TZID=Europe/London:20250513T193000
DTEND;TZID=Europe/London:20250513T193000
DTSTAMP:20260422T212852
CREATED:20250428T115314Z
LAST-MODIFIED:20250508T141415Z
UID:1658-1747164600-1747164600@loweswatervillagehall.co.uk
SUMMARY:77 Club - Whitehaven Male Voice Choir
DESCRIPTION:An evening of musical entertainment. \nTea/Coffee will be served. BYO if you prefer an alternative. \nDonations for the Raffle would be appreciated.
URL:https://loweswatervillagehall.co.uk/event/77-club-workington-male-voice-choir/
LOCATION:Loweswater Village Hall
END:VEVENT
BEGIN:VEVENT
DTSTART;TZID=Europe/London:20250514T181500
DTEND;TZID=Europe/London:20250514T210000
DTSTAMP:20260422T212852
CREATED:20250130T121304Z
LAST-MODIFIED:20250130T121304Z
UID:1522-1747246500-1747256400@loweswatervillagehall.co.uk
SUMMARY:Loweswater Ladies Walk and Buffet supper
DESCRIPTION:14th May 2025 @ 6.15pm/7.15pm \nWalk around the village setting off at 6.15pm from Village Hall. \nBuffet at 7.15pm \nAnnual Subscription £12\, Visitors £2.50 per meeting
URL:https://loweswatervillagehall.co.uk/event/loweswater-ladies-walk-and-buffet-supper/
END:VEVENT
END:VCALENDAR